BEGIN:VCALENDAR
VERSION:2.0
PRODID:-//Quechee Church - ECPv4.6.6//NONSGML v1.0//EN
CALSCALE:GREGORIAN
METHOD:PUBLISH
X-WR-CALNAME:Quechee Church
X-ORIGINAL-URL:http://www.quecheechurch.org/home
X-WR-CALDESC:Events for Quechee Church
BEGIN:VEVENT
DTSTART;TZID=UTC+0:20180710T100000
DTEND;TZID=UTC+0:20180711T100000
DTSTAMP:20260423T110052
CREATED:20180611T140720Z
LAST-MODIFIED:20180611T140941Z
UID:897-1531216800-1531303200@www.quecheechurch.org
SUMMARY:9th Grade Hike & Overnight
DESCRIPTION:Starting in July\, all incoming 9th graders will be joining our High School Youth Group for our summer study on Galatians! As a way of officially welcoming you to the High School Youth Group\, we will be traveling down to southern New Hampshire for a hike and overnight trip from July 10th to 11th! \nPlease RSVP to //  \nSorry\, you need Javascript on to email me. \nRelease Form \n
URL:http://www.quecheechurch.org/home/event/9th-grade-hike-overnight/
CATEGORIES:Children & Youth Events
END:VEVENT
END:VCALENDAR