BEGIN:VCALENDAR
VERSION:2.0
PRODID:-//Quechee Church - ECPv4.6.6//NONSGML v1.0//EN
CALSCALE:GREGORIAN
METHOD:PUBLISH
X-WR-CALNAME:Quechee Church
X-ORIGINAL-URL:http://www.quecheechurch.org/home
X-WR-CALDESC:Events for Quechee Church
BEGIN:VEVENT
DTSTART;TZID=UTC+0:20190202T150000
DTEND;TZID=UTC+0:20190202T173000
DTSTAMP:20260419T121643
CREATED:20190628T121305Z
LAST-MODIFIED:20190628T121305Z
UID:2079-1549119600-1549128600@www.quecheechurch.org
SUMMARY:Annual Meeting
DESCRIPTION:Join our Quechee Church and Christ Redeemer Church family for our Annual Meeting. Here’s some of what you can expect: \n\nCelebration of what God has done over this past year in and through CRC\nLooking forward to where God is leading us in 2018 and beyond.\nA great time of friendship and fellowship.\n\nAn Annual Meeting packet will be emailed to the church email list the week before the meeting. Please print out the packet and bring it with you. At the meeting you can expect to share highlights of the past year at CRC and hear about the vision for the coming year. \nThe meeting will be held at the Richard W. Black Community Center in room Room 212. Parking will be limited around the RWB. Additional parking can be found behind the Hanover High School\, including the first parking lot on the right as you follow the driveway. \nPlease print out the Annual Meeting Packet you received via email and bring it with you. Please bring a snack to share. If you need childcare for the meeting\, please RSVP to the church office. \n
URL:http://www.quecheechurch.org/home/event/annual-meeting-2018/
LOCATION:48 Lebanon Street\, Hanover\, NH\, 037555\, United States
CATEGORIES:Meetings/Seminars
END:VEVENT
END:VCALENDAR