BEGIN:VCALENDAR
VERSION:2.0
PRODID:-//Quechee Church - ECPv4.6.6//NONSGML v1.0//EN
CALSCALE:GREGORIAN
METHOD:PUBLISH
X-WR-CALNAME:Quechee Church
X-ORIGINAL-URL:http://www.quecheechurch.org/home
X-WR-CALDESC:Events for Quechee Church
BEGIN:VEVENT
DTSTART;TZID=UTC+5:20251221T090000
DTEND;TZID=UTC+5:20251221T100000
DTSTAMP:20260422T125950
CREATED:20251125T194609Z
LAST-MODIFIED:20251125T194609Z
UID:7452-1766307600-1766311200@www.quecheechurch.org
SUMMARY:Children's Christmas Program
DESCRIPTION:All children are invited to participate in the Children’s Christmas Program during the worship service on Sunday\, December 21st! The rehearsal will be held following the service on 12/14.  If your child would like to participate\, please contact Jenny Bouton. \n
URL:http://www.quecheechurch.org/home/event/childrens-christmas-program/
CATEGORIES:Children & Youth Events
END:VEVENT
END:VCALENDAR