BEGIN:VCALENDAR
VERSION:2.0
PRODID:-//Quechee Church - ECPv4.6.6//NONSGML v1.0//EN
CALSCALE:GREGORIAN
METHOD:PUBLISH
X-WR-CALNAME:Quechee Church
X-ORIGINAL-URL:http://www.quecheechurch.org/home
X-WR-CALDESC:Events for Quechee Church
BEGIN:VEVENT
DTSTART;TZID=UTC+0:20181224T180000
DTEND;TZID=UTC+0:20181224T190000
DTSTAMP:20260419T133603
CREATED:20181109T133534Z
LAST-MODIFIED:20190628T120544Z
UID:1453-1545674400-1545678000@www.quecheechurch.org
SUMMARY:Christmas Eve Service
DESCRIPTION:\n“And the Word became flesh and lived among us\, and we have seen his glory\, the glory as of a father’s only son\, full of grace and truth.” \n~John 1:14 \n\nJoin us in celebrating the birth of Jesus Christ. Our candlelight services of lessons and carols at is an annual tradition. This year\, we will have our Christmas Eve Services at The Quechee Church at 1905 Quechee Main Street in Quechee\, Vermont. \nThis year we will have two services.\nThe first will begin at 4:00 pm; the second will begin at 6:00 pm. \nWhere should I park?\nParking at The Quechee Church is limited\, but ample parking is available across the street at the Quechee Village Green. Please reserve the parking at The Quechee Church for those with disabilities. To park at the Village Green\, turn left on Village Green Road just before you reach The Quechee Church. \nMap & Directions \n
URL:http://www.quecheechurch.org/home/event/christmas-eve-service-2018-2/
LOCATION:The Quechee Church 1905 Quechee Main Street\, Quechee\, VT\, 05059\, United States
GEO:43.698726;-72.283317
X-APPLE-STRUCTURED-LOCATION;VALUE=URI;X-ADDRESS=The Quechee Church 1905 Quechee Main Street Quechee VT 05059 United States;X-APPLE-RADIUS=500;X-TITLE=The Quechee Church 1905 Quechee Main Street:geo:-72.283317,43.698726
CATEGORIES:Worship Service
ATTACH;FMTTYPE=image/jpeg:http://www.quecheechurch.org/home/wp-content/uploads/2017/10/Christmascandles.jpg
END:VEVENT
END:VCALENDAR