BEGIN:VCALENDAR
VERSION:2.0
PRODID:-//Quechee Church - ECPv4.6.6//NONSGML v1.0//EN
CALSCALE:GREGORIAN
METHOD:PUBLISH
X-WR-CALNAME:Quechee Church
X-ORIGINAL-URL:http://www.quecheechurch.org/home
X-WR-CALDESC:Events for Quechee Church
BEGIN:VEVENT
DTSTART;VALUE=DATE:20251019
DTEND;VALUE=DATE:20251020
DTSTAMP:20260419T133418
CREATED:20251006T133133Z
LAST-MODIFIED:20260113T162218Z
UID:7379-1760832000-1760918399@www.quecheechurch.org
SUMMARY:Community Group Week
DESCRIPTION:Community Groups are a network of small groups designed to be a mini-Christian community\, providing an opportunity for prayer\, fellowship\, Bible study and service. If you are not in a group\, please contact Ryan Bouton (office@quecheechurch.org). \n
URL:http://www.quecheechurch.org/home/event/community-group-week/2025-10-19/
CATEGORIES:Meetings/Seminars
END:VEVENT
END:VCALENDAR