BEGIN:VCALENDAR
VERSION:2.0
PRODID:-//Quechee Church - ECPv4.6.6//NONSGML v1.0//EN
CALSCALE:GREGORIAN
METHOD:PUBLISH
X-WR-CALNAME:Quechee Church
X-ORIGINAL-URL:http://www.quecheechurch.org/home
X-WR-CALDESC:Events for Quechee Church
BEGIN:VEVENT
DTSTART;VALUE=DATE:20200112
DTEND;VALUE=DATE:20200113
DTSTAMP:20260422T103603
CREATED:20190625T101518Z
LAST-MODIFIED:20200416T102156Z
UID:1853-1578787200-1578873599@www.quecheechurch.org
SUMMARY:Community Groups Meet
DESCRIPTION:Community groups meet on different days of the week. However the church sets a schedule for which weeks community groups should meet to try to prevent conflicts with other events. At times\, groups make adjustments to their schedules based on the needs of the members of the group. Make sure to check with your community group leader about the exact dates for your group. \nThe backbone of Quechee Church is a network of small groups\, each designed to be a mini-Christian community. We call these community groups. \n2019-2020 Community Group Weeks are below: \nSeptember 22\nOctober 6\, 20\nNovember 3\, 17\nDecember 1\, 15\nJanuary 12\, 26\nFebruary 9\, 23\nMarch 8\nApril 5*\, 19*\nMay 3*\, 17\, 31\nJune 14 \n*CGs will meet electronically on these dates due to Vermont stay-at-home order \nIf you would like to be part of a Community Group\, please contact \n\nSorry\, you need Javascript on to email me. \n
URL:http://www.quecheechurch.org/home/event/community-groups-meet-7/2020-01-12/
CATEGORIES:Meetings/Seminars
END:VEVENT
END:VCALENDAR