BEGIN:VCALENDAR
VERSION:2.0
PRODID:-//Quechee Church - ECPv4.6.6//NONSGML v1.0//EN
CALSCALE:GREGORIAN
METHOD:PUBLISH
X-WR-CALNAME:Quechee Church
X-ORIGINAL-URL:http://www.quecheechurch.org/home
X-WR-CALDESC:Events for Quechee Church
BEGIN:VEVENT
DTSTART;TZID=UTC+0:20171117T180000
DTEND;TZID=UTC+0:20171118T160000
DTSTAMP:20260419T115409
CREATED:20171102T120437Z
LAST-MODIFIED:20180927T110906Z
UID:408-1510941600-1511020800@www.quecheechurch.org
SUMMARY:Fall Youth Conference
DESCRIPTION:Our Fall Youth Conference will be Friday November 17th at 6 pm to Saturday November 18th at 4 pm at Singing Hills Christian Conference Center in Plainfield\, NH. \nOur theme for the weekend will be “Imago Dei: Finding Our True Identity.” We will have the privilege to hear from Special Guest Speakers Kasey Leander and Matthew Mittelberg\, Ravi Zacharias Ministry Fellows from the Oxford Centre for Christian Apologetics. \nAll students 6th through 12th grade are welcome! \nRegistration\nRegular Registration: $95 per person through November 16th\nRegister Online \nIf you are registering using a mobile device\, click here. \nLegal & Medical Release Form \nPay Online \nThings to Bring\n\nBible\, Notebook & Pen\nBedding or Sleeping Bag and Pillow\nToiletries\nBath Towel\nComfortable\, warm clothing\nOutdoor clothing (clothes that can get dirty)\nFlashlight\nMedication if needed\n\nFor more information\, contact the Church Office or //  \nSorry\, you need Javascript on to email me. \nDirections\nIf using a GPS Device\, it’s best to enter 351 Stage Road\, Plainfield\, NH for directions to Singing Hills.\nFrom Stage Road\, you’ll see a large wooden Singing Hills at the end of the driveway (named King Drive). Bear left all the way up the drive. For a map\, click here. \n
URL:http://www.quecheechurch.org/home/event/fall-youth-conference-2017/
LOCATION:71 King Drive\, Plainfield\, NH\, United States
CATEGORIES:Children & Youth Events
END:VEVENT
END:VCALENDAR