BEGIN:VCALENDAR
VERSION:2.0
PRODID:-//Quechee Church - ECPv4.6.6//NONSGML v1.0//EN
CALSCALE:GREGORIAN
METHOD:PUBLISH
X-WR-CALNAME:Quechee Church
X-ORIGINAL-URL:http://www.quecheechurch.org/home
X-WR-CALDESC:Events for Quechee Church
BEGIN:VEVENT
DTSTART;TZID=UTC+0:20211119T173000
DTEND;TZID=UTC+0:20211120T160000
DTSTAMP:20260422T080857
CREATED:20211026T084829Z
LAST-MODIFIED:20231005T100829Z
UID:4340-1637343000-1637424000@www.quecheechurch.org
SUMMARY:Fall Youth Conference
DESCRIPTION:CRC’s Fall Youth Conference will take place from Friday\, November 19th at 5:30 pm to Saturday\, November 20th at 4 pm. Students in 6th to 12th grades are welcome! We want to say thank you to Christ Community Church in Plainfield\, NH for generously allowing us to use their building for the conference! \nThis year our theme is “Knowing the Story: God’s Great Work of Redemption.” We will be considering the overall narrative of Scripture\, highlighting how in every phase of biblical history\, there is a clear need for a Savior to come and make things right. As we do\, we want to encourage kids to engage God personally since this story is not just some cold piece of history but God’s very personal work of redemption for His creation. \nAdditional Details: \n\nMasks will be required indoors (except during eating and sleeping).\nWe will be sleeping on the floor in the church so please bring whatever bedding you/your child will need to be comfortable.\nThe cost of the event is $20 per participant. You can pay online or bring the payment with you to the retreat.\n\nRegister Now! \nQuestions? Contact Robert Moore (robert.moore@christredeemerchurch.org). \n  \n
URL:http://www.quecheechurch.org/home/event/fall-youth-conference-2022/
CATEGORIES:Children & Youth Events,Conferences/Retreats
ATTACH;FMTTYPE=image/jpeg:http://www.quecheechurch.org/home/wp-content/uploads/2021/10/Fall-Youth-Conference-2021.jpeg
END:VEVENT
END:VCALENDAR