BEGIN:VCALENDAR
VERSION:2.0
PRODID:-//Quechee Church - ECPv4.6.6//NONSGML v1.0//EN
CALSCALE:GREGORIAN
METHOD:PUBLISH
X-WR-CALNAME:Quechee Church
X-ORIGINAL-URL:http://www.quecheechurch.org/home
X-WR-CALDESC:Events for Quechee Church
BEGIN:VEVENT
DTSTART;TZID=UTC+5:20241122T173000
DTEND;TZID=UTC+5:20241123T140000
DTSTAMP:20260419T143337
CREATED:20241004T153659Z
LAST-MODIFIED:20250929T182834Z
UID:6889-1732296600-1732370400@www.quecheechurch.org
SUMMARY:Fall Youth Conference
DESCRIPTION:All youth\, 6th through 12th grade\, are invited to participate in the Fall Youth Conference with Christ Redeemer Church on November 22nd and 23rd in Plainfield\, NH. \nDetails & Registration \n
URL:http://www.quecheechurch.org/home/event/fall-youth-conference-2024/
CATEGORIES:Children & Youth Events
ATTACH;FMTTYPE=image/jpeg:http://www.quecheechurch.org/home/wp-content/uploads/2024/10/Fall-Youth-Conference-2023-banner.jpeg
END:VEVENT
END:VCALENDAR