BEGIN:VCALENDAR
VERSION:2.0
PRODID:-//Quechee Church - ECPv4.6.6//NONSGML v1.0//EN
CALSCALE:GREGORIAN
METHOD:PUBLISH
X-WR-CALNAME:Quechee Church
X-ORIGINAL-URL:http://www.quecheechurch.org/home
X-WR-CALDESC:Events for Quechee Church
BEGIN:VEVENT
DTSTART;TZID=UTC+0:20220617T170000
DTEND;TZID=UTC+0:20220618T080000
DTSTAMP:20260423T113339
CREATED:20220510T125441Z
LAST-MODIFIED:20230525T131946Z
UID:4785-1655485200-1655539200@www.quecheechurch.org
SUMMARY:Father-Son Campout
DESCRIPTION:The Annual Father-Son Campout will be June 17th and 18th. All men are welcome (you don’t have to have a son or father to attend!). \nThe campout takes place on Gilman Island in Hanover\, which is reached by boat. The evening will include setting up camp\, dinner\, swimming\, canoeing—all capped by a campfire time with a relevant message. It’s a great time to connect with other men\, and have a ton of fun with your kids. \nBring your own tents and gear and please arrange for a boat or plan to swim in and out. Dinner and breakfast will be provided. If you have food allergies\, please feel free to bring what you need. \nThe event is $10 per individual or $25 per family. Please sign up using the “register” link by Wednesday\, June 15th. \nRegister \nQuestions? Contact Joel Lefferts.* \n*If you need Joel’s email address\, please contact the church office (office@christredeemerchurch.org). \n
URL:http://www.quecheechurch.org/home/event/father-son-campout-2022/
LOCATION:Hanover\, NH\, United States
CATEGORIES:Children & Youth Events,Men's Fellowship
ATTACH;FMTTYPE=image/jpeg:http://www.quecheechurch.org/home/wp-content/uploads/2018/01/Father-Son-Campout-2012.jpg
END:VEVENT
END:VCALENDAR