BEGIN:VCALENDAR
VERSION:2.0
PRODID:-//Quechee Church - ECPv4.6.6//NONSGML v1.0//EN
CALSCALE:GREGORIAN
METHOD:PUBLISH
X-WR-CALNAME:Quechee Church
X-ORIGINAL-URL:http://www.quecheechurch.org/home
X-WR-CALDESC:Events for Quechee Church
BEGIN:VEVENT
DTSTART;TZID=UTC+0:20200216T120000
DTEND;TZID=UTC+0:20200219T170000
DTSTAMP:20260422T114244
CREATED:20200109T134546Z
LAST-MODIFIED:20200211T145900Z
UID:2375-1581854400-1582131600@www.quecheechurch.org
SUMMARY:February Service Trip
DESCRIPTION:February Service Trip\nIt has become our annual tradition to take a service trip in February. In the past we have done hurricane relief in Louisiana\, Mississippi and Long Island\, as well as urban service work in Washington\, DC and Newark\, NJ. This year we are staying in New England and going to the the First Baptist Church of Medfield in Massachusetts. \nParticipants from 7th grade through adults are welcome. We need all skill levels – especially those with trade skills for special projects. In addition to the work at the church\, we will also have time to enjoy an afternoon in Boston. \nYou can read about previous Service Trips on the church blog. \nRegistration is closed. If you would still like to come on the trip\, please contact Chris Audino (email below). \nRegister Online \nIf you are using a mobile device to register\, click here. \nIf you would like to pay online\, you may do so using a direct-debit from your checking account (see button below). If you would prefer\, you may also mail a check to the church office (PO Box 5523\, Hanover\, NH 03755) or use the offering box on Sunday. If you use either of these options\, please write “Service Trip” on the memo of your check and/or giving envelope. \nPay Online \nSign Release Form \nWhat to Bring\n\nSpending Money (about $25)\nBible and notebook\nSleeping Bag\, pillow and flashlight\nSleeping mat or air mattress\nToiletries and Bath Towel\nComfortable indoor recreation clothing\nIndoor work clothing/work gloves\nComfortable footwear/work boots\nWater bottle\nMedication if needed\n\nFor more information\, contact //  \nSorry\, you need Javascript on to email me. \n
URL:http://www.quecheechurch.org/home/event/february-service-trip/
CATEGORIES:Children & Youth Events,Community Service,Conferences/Retreats
ATTACH;FMTTYPE=image/png:http://www.quecheechurch.org/home/wp-content/uploads/2020/01/Service-Trip-Banner-2019.png
END:VEVENT
END:VCALENDAR