BEGIN:VCALENDAR
VERSION:2.0
PRODID:-//Quechee Church - ECPv4.6.6//NONSGML v1.0//EN
CALSCALE:GREGORIAN
METHOD:PUBLISH
X-WR-CALNAME:Quechee Church
X-ORIGINAL-URL:http://www.quecheechurch.org/home
X-WR-CALDESC:Events for Quechee Church
BEGIN:VEVENT
DTSTART;TZID=UTC+0:20220225T173000
DTEND;TZID=UTC+0:20220226T150000
DTSTAMP:20260422T114624
CREATED:20220203T124038Z
LAST-MODIFIED:20230112T144009Z
UID:4488-1645810200-1645887600@www.quecheechurch.org
SUMMARY:Men's Conference
DESCRIPTION:Courage: The Backbone of a Virtuous Life\nCourage is not optional\, but necessary and central to the life to which God calls us. “Courage is not simply one of the virtues\, but the form of every virtue at the testing point” (C.S. Lewis). Men\, we live in times of tremendous testing\, and so we need to know what courage is and how to develop it. \nJoin us for our Men’s Conference at Singing Hills in Plainfield on from 5:30 pm on Friday\, February 25th and 3:00 pm on Saturday\, February 26th as we gather and investigate this topic together. \n\nRegistration is $100*\nPlease register by February 20th \nRegister Online \nIf you would like to pay online\, you may do so using a direct-debit from your checking account you may do so by clicking the button below. If you would prefer\, you may also mail a check to the church office (PO Box 5523\, Hanover\, NH 03755) or use the offering box on Sunday. If you use either of these options\, please write “Men’s Conference” on the memo of your check and/or giving envelope. \nPay Online \n*For college student and/or non-overnight rates or any other questions\, please contact //  \nSorry\, you need Javascript on to email me. \n\n\n\n
URL:http://www.quecheechurch.org/home/event/mens-conference-2022/
LOCATION:71 King Drive\, Plainfield\, NH\, United States
CATEGORIES:Conferences/Retreats,Men's Fellowship
ATTACH;FMTTYPE=image/jpeg:http://www.quecheechurch.org/home/wp-content/uploads/2022/02/Mens-Conference-2020-1400x500.jpeg
END:VEVENT
END:VCALENDAR