BEGIN:VCALENDAR
VERSION:2.0
PRODID:-//Quechee Church - ECPv4.6.6//NONSGML v1.0//EN
CALSCALE:GREGORIAN
METHOD:PUBLISH
X-WR-CALNAME:Quechee Church
X-ORIGINAL-URL:http://www.quecheechurch.org/home
X-WR-CALDESC:Events for Quechee Church
BEGIN:VEVENT
DTSTART;TZID=UTC+0:20210530T090000
DTEND;TZID=UTC+0:20210530T100000
DTSTAMP:20260419T122814
CREATED:20210527T081133Z
LAST-MODIFIED:20220602T110252Z
UID:4023-1622365200-1622368800@www.quecheechurch.org
SUMMARY:Outdoor Worship Service
DESCRIPTION:Starting on May 30th\, our Sunday morning worship services will take place outside\, behind the church building. Masks will not be required\, but social distancing is recommended\, and communion elements will be available to pick up by household with the worship bulletins. \nWe are offering childcare for children ages 3 and up during the sermon for a Junior Church\, a program of teaching and activities in our basement area. In addition\, we will continue to set aside the 1st floor nursery space for parents with infants\, where the service can also be streamed. \n
URL:http://www.quecheechurch.org/home/event/outdoor-worship-service-2021/2021-05-30/
LOCATION:The Quechee Church 1905 Quechee Main Street\, Quechee\, VT\, 05059\, United States
GEO:43.698726;-72.283317
X-APPLE-STRUCTURED-LOCATION;VALUE=URI;X-ADDRESS=The Quechee Church 1905 Quechee Main Street Quechee VT 05059 United States;X-APPLE-RADIUS=500;X-TITLE=The Quechee Church 1905 Quechee Main Street:geo:-72.283317,43.698726
CATEGORIES:Worship Service
END:VEVENT
END:VCALENDAR