BEGIN:VCALENDAR
VERSION:2.0
PRODID:-//Quechee Church - ECPv4.6.6//NONSGML v1.0//EN
CALSCALE:GREGORIAN
METHOD:PUBLISH
X-WR-CALNAME:Quechee Church
X-ORIGINAL-URL:http://www.quecheechurch.org/home
X-WR-CALDESC:Events for Quechee Church
BEGIN:VEVENT
DTSTART;TZID=UTC+5:20260411T090000
DTEND;TZID=UTC+5:20260411T170000
DTSTAMP:20260419T121644
CREATED:20260223T211157Z
LAST-MODIFIED:20260223T211157Z
UID:7772-1775898000-1775926800@www.quecheechurch.org
SUMMARY:Spring Women's Retreat
DESCRIPTION:The women of Christ Restoration Church are invited to join the women of Christ Redeemer Church in Hanover for a spring women’s retreat at Mount Ascutney Resort in Brownsville\, VT on Saturday\, April 11th from 9:00 am to 5:00 pm (with an option to spend the night on Friday and/or Saturday if you would like). \nFull Details & Registration \n\n
URL:http://www.quecheechurch.org/home/event/spring-womens-retreat/
CATEGORIES:Conferences/Retreats,Women's Fellowship
ATTACH;FMTTYPE=image/png:http://www.quecheechurch.org/home/wp-content/uploads/2025/01/Womens-Retreat-2025-banner.png
END:VEVENT
END:VCALENDAR