BEGIN:VCALENDAR
VERSION:2.0
PRODID:-//Quechee Church - ECPv4.6.6//NONSGML v1.0//EN
CALSCALE:GREGORIAN
METHOD:PUBLISH
X-WR-CALNAME:Quechee Church
X-ORIGINAL-URL:http://www.quecheechurch.org/home
X-WR-CALDESC:Events for Quechee Church
BEGIN:VEVENT
DTSTART;TZID=UTC+5:20260715T090000
DTEND;TZID=UTC+5:20260715T113000
DTSTAMP:20260422T114938
CREATED:20260306T151301Z
LAST-MODIFIED:20260306T151353Z
UID:7785-1784106000-1784115000@www.quecheechurch.org
SUMMARY:Summer Celebration Camp
DESCRIPTION:Our annual Summer Celebration Camp will be held Tuesday\, July 8th through Friday\, July 11th from 9 am to 11:30 am each day at Wellspring Worship Center in West Lebanon\, NH. All children\, 4-years-old to 5th grade\, welcome! Click below for more information & registration on the Christ Redeemer Church webpage. \nDetails & Registration \n
URL:http://www.quecheechurch.org/home/event/summer-celebration-camp/2026-07-15/
CATEGORIES:Children & Youth Events
ATTACH;FMTTYPE=image/jpeg:http://www.quecheechurch.org/home/wp-content/uploads/2025/02/SCC-banner.jpg
END:VEVENT
END:VCALENDAR