BEGIN:VCALENDAR
VERSION:2.0
PRODID:-//Quechee Church - ECPv4.6.6//NONSGML v1.0//EN
CALSCALE:GREGORIAN
METHOD:PUBLISH
X-WR-CALNAME:Quechee Church
X-ORIGINAL-URL:http://www.quecheechurch.org/home
X-WR-CALDESC:Events for Quechee Church
BEGIN:VEVENT
DTSTART;TZID=UTC+5:20171022T090000
DTEND;TZID=UTC+5:20171022T100000
DTSTAMP:20260423T110530
CREATED:20170831T104441Z
LAST-MODIFIED:20171019T095152Z
UID:313-1508662800-1508666400@www.quecheechurch.org
SUMMARY:Sunday Worship Service
DESCRIPTION:Join us for a worship service on Sunday\, October 22nd at 9:00 am. \nWhere should I park?\nParking at the Quechee Church is limited\, but ample parking is available across the street at the Quechee Village Green. Please reserve the parking at the Quechee church for those with disabilities. To park at the Village Green\, turn left on Village Green road just before you reach the Quechee Church. \n
URL:http://www.quecheechurch.org/home/event/sunday-worship-service-12/
CATEGORIES:Worship Service
END:VEVENT
END:VCALENDAR