BEGIN:VCALENDAR
VERSION:2.0
PRODID:-//Quechee Church - ECPv4.6.6//NONSGML v1.0//EN
CALSCALE:GREGORIAN
METHOD:PUBLISH
X-WR-CALNAME:Quechee Church
X-ORIGINAL-URL:http://www.quecheechurch.org/home
X-WR-CALDESC:Events for Quechee Church
BEGIN:VEVENT
DTSTART;TZID=UTC+5:20171119T090000
DTEND;TZID=UTC+5:20171119T100000
DTSTAMP:20260421T090828
CREATED:20170831T104520Z
LAST-MODIFIED:20171019T095258Z
UID:316-1511082000-1511085600@www.quecheechurch.org
SUMMARY:Sunday Worship Service
DESCRIPTION:Join us for a worship service on Sunday\, November 19th at 9:00 am. \nWhere should I park?\nParking at the Quechee Church is limited\, but ample parking is available across the street at the Quechee Village Green. Please reserve the parking at the Quechee church for those with disabilities. To park at the Village Green\, turn left on Village Green road just before you reach the Quechee Church. \n
URL:http://www.quecheechurch.org/home/event/sunday-worship-service-15/
CATEGORIES:Worship Service
END:VEVENT
END:VCALENDAR