BEGIN:VCALENDAR
VERSION:2.0
PRODID:-//Quechee Church - ECPv4.6.6//NONSGML v1.0//EN
CALSCALE:GREGORIAN
METHOD:PUBLISH
X-WR-CALNAME:Quechee Church
X-ORIGINAL-URL:http://www.quecheechurch.org/home
X-WR-CALDESC:Events for Quechee Church
BEGIN:VEVENT
DTSTART;TZID=UTC+5:20171119T163000
DTEND;TZID=UTC+5:20171119T183000
DTSTAMP:20260419T145014
CREATED:20241101T133232Z
LAST-MODIFIED:20241101T170931Z
UID:6925-1511109000-1511116200@www.quecheechurch.org
SUMMARY:Thanksgiving Dinner
DESCRIPTION:Everyone is invited to enjoy a good time of food\, fellowship\, and thanksgiving at the Richard W. Black Center in Hanover. Feel free to invite friends and family to join us! We’ll enjoy a meal together and a slideshow with pictures from the past year. \nIf you are able\, please bring a dish to share. You can RSVP and tell us what you plan to bring using the form below. \nContact Ryan Bouton any questions or to volunteer to help with set up or clean up. \n \n
URL:http://www.quecheechurch.org/home/event/thanksgiving-dinner-2017/
CATEGORIES:Social Event
END:VEVENT
END:VCALENDAR