BEGIN:VCALENDAR
VERSION:2.0
PRODID:-//Quechee Church - ECPv4.6.6//NONSGML v1.0//EN
CALSCALE:GREGORIAN
METHOD:PUBLISH
X-WR-CALNAME:Quechee Church
X-ORIGINAL-URL:http://www.quecheechurch.org/home
X-WR-CALDESC:Events for Quechee Church
BEGIN:VEVENT
DTSTART;TZID=UTC+0:20190426T190000
DTEND;TZID=UTC+0:20190427T190000
DTSTAMP:20260423T094935
CREATED:20180920T094818Z
LAST-MODIFIED:20190905T131716Z
UID:1262-1556305200-1556391600@www.quecheechurch.org
SUMMARY:Spring Women's Retreat
DESCRIPTION:Our Spring Women’s Retreat is a wonderful opportunity for us to get away\, connect with other women\, and hear encouraging thoughts to help us view our lives through the lens of God’s Word. All this while enjoying the beauty of God’s creation! We’ve structured our retreat to include Biblical teaching\, interactive learning experiences\, and plenty of time for reflection and connection. \nWe’ll be returning to Pilgrim Pines Conference Center in Swanzey\, NH for our retreat in 2019. The retreat will begin at 7 pm on Friday\, April 26th and end after dinner on Saturday\, April 27th. There is an option to stay an extra night on Saturday. \nHe Brings the Rain: Learning to Embrace the Storms of Life\n\nWhat does it mean to have joy in Christ\, no matter our circumstances? How does confidence and real trust in God develop in our hearts? Come join us for a weekend away to consider these questions complete with space to be quiet\, opportunities to grow friendships\, and encouragement to wrestle with and rest in our Savior. \n“God is our refuge and strength\, a very present help in trouble. Therefore\, we will not fear though the earth gives way\, though the mountains be moved into the heart of the sea\, though its waters roar and foam\, though the mountains tremble at its swelling. There is a river whose streams make glad the city of God\, the holy habitation of the Most High. God is in the midst of her; she shall not be moved; God will help her when morning dawns. The nations rage\, the kingdoms totter; he utters his voice\, the earth melts. The Lord of hosts is with us; the God of Jacob is our fortress.” (Psalm 46:1-7) \nRetreat Speaker – Dori Willeman\nDon and Dori Willeman moved to the Upper Valley 20 years ago to start Christ Redeemer Church. As the pastor’s wife\, Dori has served various capacities at the church and in the community. She is passionate about ministering to woman through teaching and discipleship. During our weekend\, she looks forward to sharing how her view of God has been shaped through suffering and the hope offered in Christ. \nRetreat Accommodations & Cost\nOne night: (Friday night stay; breakfast\, lunch & dinner on Saturday) \nTwo nights: (Friday & Saturday night stay; breakfast\, lunch & dinner on Saturday & breakfast on Sunday) \nSaturday only: (no lodging\, includes breakfast\, lunch\, & dinner) \nRooming options include singles\, doubles\, and group options for 3-8 women in cabins or apartments (no bunkbeds). \nThis event has passed. \nPayment Options: If you would like to pay online\, you may do so through a direct debit from your checking account below. If you need to create an account\, you may need to select “Women’s Retreat” from the dropdown menu once you log in. \nPay Online \nYou may also submit a payment using the offering box on Sunday morning or by mailing a check to the church office (PO Box 5523\, Hanover\, NH 03755).You are also welcome to bring the payment with you to the retreat. All checks should be payable to “Christ Redeemer Church.” \nIf you have any questions about the retreat\, please contact//  \nSorry\, you need Javascript on to email me. \nWhat to bring\nBible\, Notebook\, Pen\nToiletries\nComfortable Clothes\nWalking shoes\, if you plan to walk or hike \nDirections\nPilgrim Pines is about 1 hour and 20 minutes from Hanover\, near Keene\, NH.\n220 West Shore Road\nSwanzey\, NH 03446\nFind directions \nPrevious Retreats\nSee photos and read about our past retreats  here . \n\n\n\n\n
URL:http://www.quecheechurch.org/home/event/womens-retreat-2018-2/
LOCATION:220 West Shore Road\, Swanzey\, NH\, United States
GEO:42.8504207;-72.3057862
X-APPLE-STRUCTURED-LOCATION;VALUE=URI;X-ADDRESS=220 West Shore Road Swanzey NH United States;X-APPLE-RADIUS=500;X-TITLE=220 West Shore Road:geo:-72.3057862,42.8504207
CATEGORIES:Conferences/Retreats,Women's Fellowship
ATTACH;FMTTYPE=image/png:http://www.quecheechurch.org/home/wp-content/uploads/2018/09/Womens-Retreat-2018-Banner-TQC.png
END:VEVENT
END:VCALENDAR