BEGIN:VCALENDAR
VERSION:2.0
PRODID:-//Quechee Church - ECPv4.6.6//NONSGML v1.0//EN
CALSCALE:GREGORIAN
METHOD:PUBLISH
X-WR-CALNAME:Quechee Church
X-ORIGINAL-URL:http://www.quecheechurch.org/home
X-WR-CALDESC:Events for Quechee Church
BEGIN:VEVENT
DTSTART;TZID=UTC+5:20250328T190000
DTEND;TZID=UTC+5:20250329T170000
DTSTAMP:20260419T132941
CREATED:20250124T153902Z
LAST-MODIFIED:20260223T210950Z
UID:7138-1743188400-1743267600@www.quecheechurch.org
SUMMARY:Women's Retreat
DESCRIPTION:The women of The Quechee Church are invited to join the women of Christ Redeemer Church in Hanover for a spring women’s retreat at Lake Morey Resort in Fairlee\, VT from 7:00 pm on Friday\, March 28th to 5:00 pm on Saturday\, March 29th! \nRetreat Format: \nFriday night – fellowship and small group time\nSaturday – breakfast at 8 am\, Session 1 at 9 am\, wrapped up by 5 pm \nFull Details & Registration \n\n
URL:http://www.quecheechurch.org/home/event/womens-retreat-2025/
CATEGORIES:Conferences/Retreats,Women's Fellowship
ATTACH;FMTTYPE=image/png:http://www.quecheechurch.org/home/wp-content/uploads/2025/01/Womens-Retreat-2025-banner.png
END:VEVENT
END:VCALENDAR